BEGIN:VCALENDAR
VERSION:2.0
PRODID:-//wp-events-plugin.com//7.2.3.1//EN
TZID:Europe/Berlin
X-WR-TIMEZONE:Europe/Berlin
BEGIN:VEVENT
UID:64@ganzblatt.de
DTSTART;TZID=Europe/Berlin;VALUE=DATE:20240404
DTEND;TZID=Europe/Berlin;VALUE=DATE:20240408
DTSTAMP:20240123T102827Z
URL:https://www.ganzblatt.de/events/slow-food-stuttgart-2/
SUMMARY:Slow Food Stuttgart
DESCRIPTION:
LOCATION:Slow-Food\, Messe Stuttgart\, Stuttgart\, Deutschland
X-APPLE-STRUCTURED-LOCATION;VALUE=URI;X-ADDRESS=Messe Stuttgart\, Stuttgart
 \, Deutschland;X-APPLE-RADIUS=100;X-TITLE=Slow-Food:geo:0,0
END:VEVENT
BEGIN:VTIMEZONE
TZID:Europe/Berlin
X-LIC-LOCATION:Europe/Berlin
BEGIN:DAYLIGHT
DTSTART:20240331T030000
TZOFFSETFROM:+0100
TZOFFSETTO:+0200
TZNAME:CEST
END:DAYLIGHT
END:VTIMEZONE
END:VCALENDAR