BEGIN:VCALENDAR
VERSION:2.0
PRODID:-//wp-events-plugin.com//7.2.3.1//EN
TZID:Europe/Berlin
X-WR-TIMEZONE:Europe/Berlin
BEGIN:VEVENT
UID:45@ganzblatt.de
DTSTART;TZID=Europe/Berlin:20220521T100000
DTEND;TZID=Europe/Berlin:20220521T130000
DTSTAMP:20220321T101249Z
URL:https://www.ganzblatt.de/events/kraeuter-hausapotheke-spitzwegerich/
SUMMARY:Kräuter-Hausapotheke: Spitzwegerich
DESCRIPTION:Wir erstellen unsere eigene (jahrelang erprobte) Hausapotheke.\
 nIn unseren Workshops werden wir Pflanzen gemeinsam sammeln bzw. graben un
 d daraus\n\n\n 	\nHeilmittel herstellen (Salbe\, Tinktur etc.)\n\n 	\nvon 
 der Ernte bis zum Etikett\n\n 	\neinen kulinarischen Snack zubereiten\n\n\
 nAnhand eines ausführlichen Heilpflanzenskripts besprechen wir Botanik\, 
 Inhaltsstoffe\, Wirkung\, Herstellung und Mythologie etc.\nDie Kurse finde
 n auf unserem Kräuterfeld zw. Fahrnbuck und Gasthaus Hirschen / Schilligh
 of im Freien (Pavillon) statt. (Wetterfeste Kleidung!)\n\nTeilnehmerzahl: 
 Max. 20 Personen\n\nKosten&nbsp\;: 30 € zzgl. Materialkosten (meist ca. 
 5 €)\n\nBitte mitbringen: Sauberes Marmeladenglas ca. 500 ml (ggf. könn
 en auch Gläser vor Ort gekauft werden).\nDie Formalitäten:\nEine Anmeldu
 ng für unsere Kurse ist verbindlich.\nAnmeldungen wenn möglich bitte üb
 er diese Seite (s.u.)\nEine telefonische Anmeldung ist ebenfalls möglich.
 \nAbmeldungen bis 7 Tage vor Kursbeginn sind kostenfrei Teilnahme kann üb
 er unser Buchungssystem storniert werden. Für Abmeldungen ab einschl. 7 T
 age vor Kursbeginn wird eine Abmeldegebühr von 10 € fällig.\nEs könne
 n aber auch Ersatzpersonen teilnehmen. Hierüber müssen wir aber unbeding
 t bis 24 Std. vor Kursbeginn telefonisch oder per email informiert werden.
 \nBei Nichterscheinen ohne Abmeldung wird die gesamte Kursgebühr von 30
 € fällig.\nDie Bezahlung der Kurse erfolgt per Überweisung auf unser K
 onto bei der GLS Bank. Die Kontodaten erhalten Sie mit der Buchungsbestät
 igung.\nMaterialkosten am Kurstag in bar.\nHaftung:\nFür Unfälle vor wä
 hrend und nach der Veranstaltung sowie für Beschädigung / Verlust von Ge
 genständen oder Diebstahl übernehmen wir keine Haftung.\nKeine der von u
 ns weitergegebenen Informationen ersetzen einen Arztbesuch. Die Kurse soll
 en informieren und dazu dienen die Gesundheit zu erhalten und dabei helfen
  leichte Beschwerden selbst zu kurieren.\nWir behalten uns vor\, die Kurse
  bei anhaltend sehr schlechtem Wetter\, im Krankheitsfall oder bei zu geri
 nger Teilnehmerzahl\, ersatzlos zu streichen.
END:VEVENT
BEGIN:VTIMEZONE
TZID:Europe/Berlin
X-LIC-LOCATION:Europe/Berlin
BEGIN:DAYLIGHT
DTSTART:20220327T030000
TZOFFSETFROM:+0100
TZOFFSETTO:+0200
TZNAME:CEST
END:DAYLIGHT
END:VTIMEZONE
END:VCALENDAR