BEGIN:VCALENDAR
VERSION:2.0
PRODID:-//wp-events-plugin.com//7.2.3.1//EN
TZID:Europe/Berlin
X-WR-TIMEZONE:Europe/Berlin
BEGIN:VEVENT
UID:46@ganzblatt.de
DTSTART;TZID=Europe/Berlin:20220625T100000
DTEND;TZID=Europe/Berlin:20220625T130000
DTSTAMP:20220607T184133Z
URL:https://www.ganzblatt.de/events/kraeuter-hausapotheke-ringelblume/
SUMMARY:Kräuter-Hausapotheke: Ringelblume
DESCRIPTION:Wir erstellen unsere eigene (jahrelang erprobte) Hausapotheke.\
 nIn unseren Workshops werden wir Pflanzen gemeinsam sammeln bzw. graben un
 d daraus\n\n\n 	\nHeilmittel herstellen (Salbe\, Tinktur etc.)\n\n 	\nvon 
 der Ernte bis zum Etikett\n\n 	\neinen kulinarischen Snack zubereiten\n\n\
 nAnhand eines ausführlichen Heilpflanzenskripts besprechen wir Botanik\, 
 Inhaltsstoffe\, Wirkung\, Herstellung und Mythologie etc.\nDie Kurse finde
 n auf unserem Kräuterfeld zw. Fahrnbuck und Gasthaus Hirschen / Schilligh
 of im Freien (Pavillon) statt. (Wetterfeste Kleidung!)\n\nTeilnehmerzahl: 
 Max. 20 Personen\n\nKosten&nbsp\;: 30 € zzgl. Materialkosten (meist ca. 
 5 €)\nDie Formalitäten:\nEine Anmeldung für unsere Kurse ist verbindli
 ch.\nAnmeldungen wenn möglich bitte über diese Seite (s.u.)\nEine telefo
 nische Anmeldung oder per email ist aber ebenfalls möglich.\nAbmeldungen 
 bis 7 Tage vor Kursbeginn sind kostenfrei Teilnahme kann über unser Buchu
 ngssystem storniert werden. Für Abmeldungen ab einschl. 7 Tage vor Kursbe
 ginn wird eine Abmeldegebühr von 10 € fällig.\nEs können aber auch Er
 satzpersonen teilnehmen. Hierüber möchten wir aber bitte bis 24 Std. vor
  Kursbeginn telefonisch oder per email informiert werden.\nBei Nichtersche
 inen ohne Abmeldung wird die gesamte Kursgebühr von 30€ fällig.\nDie B
 ezahlung der Kurse erfolgt vor Ort in bar\nHaftung:\nFür Unfälle vor wä
 hrend und nach der Veranstaltung sowie für Beschädigung / Verlust von Ge
 genständen oder Diebstahl übernehmen wir keine Haftung.\nKeine der von u
 ns weitergegebenen Informationen ersetzen einen Arztbesuch. Die Kurse soll
 en informieren und dazu dienen die Gesundheit zu erhalten und dabei helfen
  leichte Beschwerden selbst zu kurieren.\nWir behalten uns vor\, die Kurse
  bei anhaltend sehr schlechtem Wetter\, im Krankheitsfall oder bei zu geri
 nger Teilnehmerzahl\, ersatzlos zu streichen.
LOCATION:Kräuterfeld der Kräuterei Mutter Erde\, zw.Steinen-Weitenau-Fahr
 nbuck \, und Steinen-Schillighof\, BW\, 79585\, Deutschland
X-APPLE-STRUCTURED-LOCATION;VALUE=URI;X-ADDRESS=zw.Steinen-Weitenau-Fahrnbu
 ck \, und Steinen-Schillighof\, BW\, 79585\, Deutschland;X-APPLE-RADIUS=10
 0;X-TITLE=Kräuterfeld der Kräuterei Mutter Erde:geo:0,0
END:VEVENT
BEGIN:VTIMEZONE
TZID:Europe/Berlin
X-LIC-LOCATION:Europe/Berlin
BEGIN:DAYLIGHT
DTSTART:20220327T030000
TZOFFSETFROM:+0100
TZOFFSETTO:+0200
TZNAME:CEST
END:DAYLIGHT
END:VTIMEZONE
END:VCALENDAR