BEGIN:VCALENDAR
VERSION:2.0
PRODID:-//wp-events-plugin.com//7.2.3.1//EN
TZID:Europe/Berlin
X-WR-TIMEZONE:Europe/Berlin
BEGIN:VEVENT
UID:44@ganzblatt.de
DTSTART;TZID=Europe/Berlin:20220507T100000
DTEND;TZID=Europe/Berlin:20220507T130000
DTSTAMP:20220321T101049Z
URL:https://www.ganzblatt.de/events/kraeuter-hausapotheke-beinwell/
SUMMARY:Kräuter-Hausapotheke: Beinwell
DESCRIPTION:Wir erstellen unsere eigene (jahrelang erprobte) Hausapotheke.\
 nIn unseren Workshops werden wir Pflanzen gemeinsam sammeln bzw. graben un
 d daraus\n\n\n 	\nHeilmittel herstellen (Salbe\, Tinktur etc.)\n\n 	\nvon 
 der Ernte bis zum Etikett\n\n 	\neinen kulinarischen Snack zubereiten\n\n\
 nAnhand eines ausführlichen Heilpflanzenskripts besprechen wir Botanik\, 
 Inhaltsstoffe\, Wirkung\, Herstellung und Mythologie etc. \nDie Kurse find
 en auf unserem Kräuterfeld zw. Fahrnbuck und Gasthaus Hirschen / Schillig
 hof im Freien (Pavillon) statt. (Wetterfeste Kleidung!)\n\nTeilnehmerzahl:
  Max. 20 Personen\n\nKosten&nbsp\;: 30 € zzgl. Materialkosten (meist ca.
  5 €)\n\nBitte mitbringen: Sauberes Marmeladenglas ca.150 ml (ggf. könn
 en auch Gläser vor Ort gekauft werden)\nDie Formalitäten:\nEine Anmeldun
 g für unsere Kurse ist verbindlich.\nAnmeldungen wenn möglich bitte übe
 r diese Seite (s.u.)\nEine telefonische Anmeldung ist ebenfalls möglich.\
 nAbmeldungen bis 7 Tage vor Kursbeginn sind kostenfrei Teilnahme kann übe
 r unser Buchungssystem storniert werden. Für Abmeldungen ab einschl. 7 Ta
 ge vor Kursbeginn wird eine Abmeldegebühr von 10 € fällig.\nEs können
  aber auch Ersatzpersonen teilnehmen. Hierüber müssen wir aber unbedingt
  bis 24 Std. vor Kursbeginn telefonisch oder per email informiert werden.\
 nBei Nichterscheinen ohne Abmeldung wird die gesamte Kursgebühr von 30€
  fällig.\nDie Bezahlung der Kurse erfolgt per Überweisung auf unser Kont
 o bei der GLS Bank. Die Kontodaten erhalten Sie mit der Buchungsbestätigu
 ng.\nMaterialkosten am Kurstag in bar.\nHaftung:\nFür Unfälle vor währe
 nd und nach der Veranstaltung sowie für Beschädigung / Verlust von Gegen
 ständen oder Diebstahl übernehmen wir keine Haftung.\nKeine der von uns 
 weitergegebenen Informationen ersetzen einen Arztbesuch. Die Kurse sollen 
 informieren und dazu dienen die Gesundheit zu erhalten und dabei helfen le
 ichte Beschwerden selbst zu kurieren.\nWir behalten uns vor\, die Kurse be
 i anhaltend sehr schlechtem Wetter\, im Krankheitsfall oder bei zu geringe
 r Teilnehmerzahl\, ersatzlos zu streichen.
END:VEVENT
BEGIN:VTIMEZONE
TZID:Europe/Berlin
X-LIC-LOCATION:Europe/Berlin
BEGIN:DAYLIGHT
DTSTART:20220327T030000
TZOFFSETFROM:+0100
TZOFFSETTO:+0200
TZNAME:CEST
END:DAYLIGHT
END:VTIMEZONE
END:VCALENDAR