BEGIN:VCALENDAR
VERSION:2.0
PRODID:-//wp-events-plugin.com//7.2.3.1//EN
TZID:Europe/Berlin
X-WR-TIMEZONE:Europe/Berlin
BEGIN:VEVENT
UID:59@ganzblatt.de
DTSTART;TZID=Europe/Berlin:20230614T190000
DTEND;TZID=Europe/Berlin:20230614T213000
DTSTAMP:20230316T140919Z
URL:https://www.ganzblatt.de/events/heilpflanze-salbei/
SUMMARY:Heilpflanze Salbei
DESCRIPTION:In diesem Workshop möchten wir\n\n\n 	\nPflanzen gemeinsam sam
 meln bzw. graben und\n\n 	\nHeilmittel herstellen (Salbe\, Tinktur etc.)\n
 \n 	\nalles über die Pflanze erfahren\, von der Ernte bis zum Etikett\n\n
  	\neinen kulinarischen Snack zubereiten\n\n\nAnhand eines ausführlichen 
 Heilpflanzenskripts besprechen wir Botanik\, Inhaltsstoffe\, Wirkung\, Ver
 arbeitung und Mythologie etc.\nDer Kurs finden auf unserem Kräuterfeld zw
 . Fahrnbuck und Gasthaus Hirschen / Schillighof im Freien (Pavillon) statt
 . (Wetterfeste Kleidung!)\n\nTeilnehmerzahl: Max. 20 Personen\n\nKosten : 
 30 € zzgl. Materialkosten (meist ca. 8 €)\nDie Formalitäten:\nEine An
 meldung für unsere Kurse ist verbindlich.\nAnmeldungen wenn möglich bitt
 e über diese Seite (s.u.)\nEine telefonische Anmeldung oder per email ist
  aber ebenfalls möglich.\nAbmeldungen bis 7 Tage vor Kursbeginn sind kost
 enfrei. Die Teilnahme kann über unser Buchungssystem wieder storniert wer
 den.\nFür Abmeldungen ab einschl. 7 Tage vor Kursbeginn wird eine Abmelde
 gebühr von 10 € fällig.\nEs können aber auch Ersatzpersonen teilnehme
 n. Hierüber möchten wir aber bitte bis 24 Std. vor Kursbeginn telefonisc
 h oder per email informiert werden.\nBei Nichterscheinen ohne Abmeldung wi
 rd die gesamte Kursgebühr von 30€ fällig.\nDie Bezahlung der Kurse erf
 olgt vor Ort in bar\nHaftung:\nFür Unfälle vor während und nach der Ver
 anstaltung sowie für Beschädigung / Verlust von Gegenständen oder Diebs
 tahl übernehmen wir keine Haftung.\nKeine der von uns weitergegebenen Inf
 ormationen ersetzen einen Arztbesuch. Die Kurse sollen informieren und daz
 u dienen die Gesundheit zu erhalten und dabei helfen leichte Beschwerden s
 elbst zu kurieren.\nWir behalten uns vor\, die Kurse bei anhaltend sehr sc
 hlechtem Wetter\, im Krankheitsfall oder bei zu geringer Teilnehmerzahl\, 
 ersatzlos zu streichen.
CATEGORIES:Workshop
LOCATION:Kräuterfeld der Kräuterei Mutter Erde\, zw.Steinen-Weitenau-Fahr
 nbuck \, und Steinen-Schillighof\, BW\, 79585\, Deutschland
X-APPLE-STRUCTURED-LOCATION;VALUE=URI;X-ADDRESS=zw.Steinen-Weitenau-Fahrnbu
 ck \, und Steinen-Schillighof\, BW\, 79585\, Deutschland;X-APPLE-RADIUS=10
 0;X-TITLE=Kräuterfeld der Kräuterei Mutter Erde:geo:0,0
END:VEVENT
BEGIN:VTIMEZONE
TZID:Europe/Berlin
X-LIC-LOCATION:Europe/Berlin
BEGIN:DAYLIGHT
DTSTART:20230326T030000
TZOFFSETFROM:+0100
TZOFFSETTO:+0200
TZNAME:CEST
END:DAYLIGHT
END:VTIMEZONE
END:VCALENDAR