BEGIN:VCALENDAR
VERSION:2.0
PRODID:-//wp-events-plugin.com//7.2.3.1//EN
TZID:Europe/Berlin
X-WR-TIMEZONE:Europe/Berlin
BEGIN:VEVENT
UID:81@ganzblatt.de
DTSTART;TZID=Europe/Berlin:20241123T110000
DTEND;TZID=Europe/Berlin:20241123T153000
DTSTAMP:20241105T092537Z
URL:https://www.ganzblatt.de/events/adventsmarkt-waldorfschule-schopfheim/
SUMMARY:Adventsmarkt Waldorfschule Schopfheim
DESCRIPTION:Adventsmarkt in den Räumlichkeiten der Waldorfschule Schopfhei
 m\n\nhttps://www.waldorfschuleschopfheim.de/
END:VEVENT
BEGIN:VTIMEZONE
TZID:Europe/Berlin
X-LIC-LOCATION:Europe/Berlin
BEGIN:STANDARD
DTSTART:20241027T020000
TZOFFSETFROM:+0200
TZOFFSETTO:+0100
TZNAME:CET
END:STANDARD
END:VTIMEZONE
END:VCALENDAR